BEGIN:VCALENDAR
VERSION:2.0
PRODID:-//Howell Design LLC - ECPv6.15.16//NONSGML v1.0//EN
CALSCALE:GREGORIAN
METHOD:PUBLISH
X-ORIGINAL-URL:https://howelldesignllc.com
X-WR-CALDESC:Events for Howell Design LLC
REFRESH-INTERVAL;VALUE=DURATION:PT1H
X-Robots-Tag:noindex
X-PUBLISHED-TTL:PT1H
BEGIN:VTIMEZONE
TZID:America/New_York
BEGIN:DAYLIGHT
TZOFFSETFROM:-0500
TZOFFSETTO:-0400
TZNAME:EDT
DTSTART:20250309T070000
END:DAYLIGHT
BEGIN:STANDARD
TZOFFSETFROM:-0400
TZOFFSETTO:-0500
TZNAME:EST
DTSTART:20251102T060000
END:STANDARD
BEGIN:DAYLIGHT
TZOFFSETFROM:-0500
TZOFFSETTO:-0400
TZNAME:EDT
DTSTART:20260308T070000
END:DAYLIGHT
BEGIN:STANDARD
TZOFFSETFROM:-0400
TZOFFSETTO:-0500
TZNAME:EST
DTSTART:20261101T060000
END:STANDARD
BEGIN:DAYLIGHT
TZOFFSETFROM:-0500
TZOFFSETTO:-0400
TZNAME:EDT
DTSTART:20270314T070000
END:DAYLIGHT
BEGIN:STANDARD
TZOFFSETFROM:-0400
TZOFFSETTO:-0500
TZNAME:EST
DTSTART:20271107T060000
END:STANDARD
END:VTIMEZONE
BEGIN:VEVENT
DTSTART;TZID=America/New_York:20260225T100000
DTEND;TZID=America/New_York:20260225T120000
DTSTAMP:20260419T155316
CREATED:20240327T235705Z
LAST-MODIFIED:20240827T232622Z
UID:108500-1772013600-1772020800@howelldesignllc.com
SUMMARY:Judy Feiger Womens DF (Pine Hill)
DESCRIPTION:
URL:https://howelldesignllc.com/events/judy-feiger-womens-df-pine-hill-170
LOCATION:NJ
CATEGORIES:HC Meets
END:VEVENT
BEGIN:VEVENT
DTSTART;TZID=America/New_York:20260225T180000
DTEND;TZID=America/New_York:20260225T200000
DTSTAMP:20260419T155316
CREATED:20240329T222913Z
LAST-MODIFIED:20240827T232622Z
UID:108505-1772042400-1772049600@howelldesignllc.com
SUMMARY:Bryce & Stephanie Lemke DF (Sicklerville)
DESCRIPTION:
URL:https://howelldesignllc.com/events/bryce-stephanie-lemke-df-sicklerville-170
LOCATION:Sicklerville\, 7 Winslow Rd\, Sewell\, NJ\, United States
CATEGORIES:HC Meets
END:VEVENT
BEGIN:VEVENT
DTSTART;TZID=America/New_York:20260225T190000
DTEND;TZID=America/New_York:20260225T210000
DTSTAMP:20260419T155316
CREATED:20240329T222914Z
LAST-MODIFIED:20240827T232622Z
UID:108506-1772046000-1772053200@howelldesignllc.com
SUMMARY:Kurt & Terry Bruninghaus DF (Berlin)
DESCRIPTION:(Dinner once/monthly)
URL:https://howelldesignllc.com/events/kurt-terry-bruninghaus-df-berlin-170
LOCATION:NJ
CATEGORIES:HC Meets
END:VEVENT
BEGIN:VEVENT
DTSTART;TZID=America/New_York:20260304T100000
DTEND;TZID=America/New_York:20260304T120000
DTSTAMP:20260419T155316
CREATED:20240403T231145Z
LAST-MODIFIED:20240827T232622Z
UID:108528-1772618400-1772625600@howelldesignllc.com
SUMMARY:Judy Feiger Womens DF (Pine Hill)
DESCRIPTION:
URL:https://howelldesignllc.com/events/judy-feiger-womens-df-pine-hill-171
LOCATION:NJ
CATEGORIES:HC Meets
END:VEVENT
BEGIN:VEVENT
DTSTART;TZID=America/New_York:20260304T180000
DTEND;TZID=America/New_York:20260304T200000
DTSTAMP:20260419T155316
CREATED:20240404T232634Z
LAST-MODIFIED:20240827T232622Z
UID:108532-1772647200-1772654400@howelldesignllc.com
SUMMARY:Bryce & Stephanie Lemke DF (Sicklerville)
DESCRIPTION:
URL:https://howelldesignllc.com/events/bryce-stephanie-lemke-df-sicklerville-171
LOCATION:Sicklerville\, 7 Winslow Rd\, Sewell\, NJ\, United States
CATEGORIES:HC Meets
END:VEVENT
BEGIN:VEVENT
DTSTART;TZID=America/New_York:20260304T190000
DTEND;TZID=America/New_York:20260304T210000
DTSTAMP:20260419T155316
CREATED:20240404T232635Z
LAST-MODIFIED:20240827T232622Z
UID:108533-1772650800-1772658000@howelldesignllc.com
SUMMARY:Kurt & Terry Bruninghaus DF (Berlin)
DESCRIPTION:(Dinner once/monthly)
URL:https://howelldesignllc.com/events/kurt-terry-bruninghaus-df-berlin-171
LOCATION:NJ
CATEGORIES:HC Meets
END:VEVENT
BEGIN:VEVENT
DTSTART;TZID=America/New_York:20260311T100000
DTEND;TZID=America/New_York:20260311T120000
DTSTAMP:20260419T155316
CREATED:20240410T222630Z
LAST-MODIFIED:20240827T232622Z
UID:108548-1773223200-1773230400@howelldesignllc.com
SUMMARY:Judy Feiger Womens DF (Pine Hill)
DESCRIPTION:
URL:https://howelldesignllc.com/events/judy-feiger-womens-df-pine-hill-172
LOCATION:NJ
CATEGORIES:HC Meets
END:VEVENT
BEGIN:VEVENT
DTSTART;TZID=America/New_York:20260311T180000
DTEND;TZID=America/New_York:20260311T200000
DTSTAMP:20260419T155316
CREATED:20240411T222633Z
LAST-MODIFIED:20240827T232622Z
UID:108552-1773252000-1773259200@howelldesignllc.com
SUMMARY:Bryce & Stephanie Lemke DF (Sicklerville)
DESCRIPTION:
URL:https://howelldesignllc.com/events/bryce-stephanie-lemke-df-sicklerville-172
LOCATION:Sicklerville\, 7 Winslow Rd\, Sewell\, NJ\, United States
CATEGORIES:HC Meets
END:VEVENT
BEGIN:VEVENT
DTSTART;TZID=America/New_York:20260311T190000
DTEND;TZID=America/New_York:20260311T210000
DTSTAMP:20260419T155316
CREATED:20240411T222633Z
LAST-MODIFIED:20240827T232622Z
UID:108553-1773255600-1773262800@howelldesignllc.com
SUMMARY:Kurt & Terry Bruninghaus DF (Berlin)
DESCRIPTION:(Dinner once/monthly)
URL:https://howelldesignllc.com/events/kurt-terry-bruninghaus-df-berlin-172
LOCATION:NJ
CATEGORIES:HC Meets
END:VEVENT
BEGIN:VEVENT
DTSTART;TZID=America/New_York:20260318T100000
DTEND;TZID=America/New_York:20260318T120000
DTSTAMP:20260419T155316
CREATED:20240417T224140Z
LAST-MODIFIED:20240827T232622Z
UID:108581-1773828000-1773835200@howelldesignllc.com
SUMMARY:Judy Feiger Womens DF (Pine Hill)
DESCRIPTION:
URL:https://howelldesignllc.com/events/judy-feiger-womens-df-pine-hill-173
LOCATION:NJ
CATEGORIES:HC Meets
END:VEVENT
BEGIN:VEVENT
DTSTART;TZID=America/New_York:20260318T180000
DTEND;TZID=America/New_York:20260318T200000
DTSTAMP:20260419T155316
CREATED:20240418T224138Z
LAST-MODIFIED:20240827T232622Z
UID:108585-1773856800-1773864000@howelldesignllc.com
SUMMARY:Bryce & Stephanie Lemke DF (Sicklerville)
DESCRIPTION:
URL:https://howelldesignllc.com/events/bryce-stephanie-lemke-df-sicklerville-173
LOCATION:Sicklerville\, 7 Winslow Rd\, Sewell\, NJ\, United States
CATEGORIES:HC Meets
END:VEVENT
BEGIN:VEVENT
DTSTART;TZID=America/New_York:20260318T190000
DTEND;TZID=America/New_York:20260318T210000
DTSTAMP:20260419T155316
CREATED:20240418T224139Z
LAST-MODIFIED:20240827T232622Z
UID:108586-1773860400-1773867600@howelldesignllc.com
SUMMARY:Kurt & Terry Bruninghaus DF (Berlin)
DESCRIPTION:(Dinner once/monthly)
URL:https://howelldesignllc.com/events/kurt-terry-bruninghaus-df-berlin-173
LOCATION:NJ
CATEGORIES:HC Meets
END:VEVENT
BEGIN:VEVENT
DTSTART;TZID=America/New_York:20260325T100000
DTEND;TZID=America/New_York:20260325T120000
DTSTAMP:20260419T155316
CREATED:20240424T224254Z
LAST-MODIFIED:20240827T232622Z
UID:108602-1774432800-1774440000@howelldesignllc.com
SUMMARY:Judy Feiger Womens DF (Pine Hill)
DESCRIPTION:
URL:https://howelldesignllc.com/events/judy-feiger-womens-df-pine-hill-174
LOCATION:NJ
CATEGORIES:HC Meets
END:VEVENT
BEGIN:VEVENT
DTSTART;TZID=America/New_York:20260325T180000
DTEND;TZID=America/New_York:20260325T200000
DTSTAMP:20260419T155316
CREATED:20240425T225635Z
LAST-MODIFIED:20240827T232622Z
UID:108606-1774461600-1774468800@howelldesignllc.com
SUMMARY:Bryce & Stephanie Lemke DF (Sicklerville)
DESCRIPTION:
URL:https://howelldesignllc.com/events/bryce-stephanie-lemke-df-sicklerville-174
LOCATION:Sicklerville\, 7 Winslow Rd\, Sewell\, NJ\, United States
CATEGORIES:HC Meets
END:VEVENT
BEGIN:VEVENT
DTSTART;TZID=America/New_York:20260325T190000
DTEND;TZID=America/New_York:20260325T210000
DTSTAMP:20260419T155316
CREATED:20240425T225635Z
LAST-MODIFIED:20240827T232623Z
UID:108607-1774465200-1774472400@howelldesignllc.com
SUMMARY:Kurt & Terry Bruninghaus DF (Berlin)
DESCRIPTION:(Dinner once/monthly)
URL:https://howelldesignllc.com/events/kurt-terry-bruninghaus-df-berlin-174
LOCATION:NJ
CATEGORIES:HC Meets
END:VEVENT
BEGIN:VEVENT
DTSTART;TZID=America/New_York:20260401T100000
DTEND;TZID=America/New_York:20260401T120000
DTSTAMP:20260419T155316
CREATED:20240501T231203Z
LAST-MODIFIED:20240827T232623Z
UID:108623-1775037600-1775044800@howelldesignllc.com
SUMMARY:Judy Feiger Womens DF (Pine Hill)
DESCRIPTION:
URL:https://howelldesignllc.com/events/judy-feiger-womens-df-pine-hill-175
LOCATION:NJ
CATEGORIES:HC Meets
END:VEVENT
BEGIN:VEVENT
DTSTART;TZID=America/New_York:20260401T180000
DTEND;TZID=America/New_York:20260401T200000
DTSTAMP:20260419T155316
CREATED:20240502T231145Z
LAST-MODIFIED:20240827T232623Z
UID:108627-1775066400-1775073600@howelldesignllc.com
SUMMARY:Bryce & Stephanie Lemke DF (Sicklerville)
DESCRIPTION:
URL:https://howelldesignllc.com/events/bryce-stephanie-lemke-df-sicklerville-175
LOCATION:Sicklerville\, 7 Winslow Rd\, Sewell\, NJ\, United States
CATEGORIES:HC Meets
END:VEVENT
BEGIN:VEVENT
DTSTART;TZID=America/New_York:20260401T190000
DTEND;TZID=America/New_York:20260401T210000
DTSTAMP:20260419T155316
CREATED:20240502T231145Z
LAST-MODIFIED:20240827T232623Z
UID:108628-1775070000-1775077200@howelldesignllc.com
SUMMARY:Kurt & Terry Bruninghaus DF (Berlin)
DESCRIPTION:(Dinner once/monthly)
URL:https://howelldesignllc.com/events/kurt-terry-bruninghaus-df-berlin-175
LOCATION:NJ
CATEGORIES:HC Meets
END:VEVENT
BEGIN:VEVENT
DTSTART;TZID=America/New_York:20260408T100000
DTEND;TZID=America/New_York:20260408T120000
DTSTAMP:20260419T155316
CREATED:20240508T232634Z
LAST-MODIFIED:20240827T232623Z
UID:108644-1775642400-1775649600@howelldesignllc.com
SUMMARY:Judy Feiger Womens DF (Pine Hill)
DESCRIPTION:
URL:https://howelldesignllc.com/events/judy-feiger-womens-df-pine-hill-176
LOCATION:NJ
CATEGORIES:HC Meets
END:VEVENT
BEGIN:VEVENT
DTSTART;TZID=America/New_York:20260408T180000
DTEND;TZID=America/New_York:20260408T200000
DTSTAMP:20260419T155316
CREATED:20240509T232627Z
LAST-MODIFIED:20240827T232623Z
UID:108648-1775671200-1775678400@howelldesignllc.com
SUMMARY:Bryce & Stephanie Lemke DF (Sicklerville)
DESCRIPTION:
URL:https://howelldesignllc.com/events/bryce-stephanie-lemke-df-sicklerville-176
LOCATION:Sicklerville\, 7 Winslow Rd\, Sewell\, NJ\, United States
CATEGORIES:HC Meets
END:VEVENT
BEGIN:VEVENT
DTSTART;TZID=America/New_York:20260408T190000
DTEND;TZID=America/New_York:20260408T210000
DTSTAMP:20260419T155316
CREATED:20240509T232627Z
LAST-MODIFIED:20240827T232623Z
UID:108649-1775674800-1775682000@howelldesignllc.com
SUMMARY:Kurt & Terry Bruninghaus DF (Berlin)
DESCRIPTION:(Dinner once/monthly)
URL:https://howelldesignllc.com/events/kurt-terry-bruninghaus-df-berlin-176
LOCATION:NJ
CATEGORIES:HC Meets
END:VEVENT
BEGIN:VEVENT
DTSTART;TZID=America/New_York:20260415T100000
DTEND;TZID=America/New_York:20260415T120000
DTSTAMP:20260419T155316
CREATED:20240515T234143Z
LAST-MODIFIED:20240827T232623Z
UID:108665-1776247200-1776254400@howelldesignllc.com
SUMMARY:Judy Feiger Womens DF (Pine Hill)
DESCRIPTION:
URL:https://howelldesignllc.com/events/judy-feiger-womens-df-pine-hill-177
LOCATION:NJ
CATEGORIES:HC Meets
END:VEVENT
BEGIN:VEVENT
DTSTART;TZID=America/New_York:20260415T180000
DTEND;TZID=America/New_York:20260415T200000
DTSTAMP:20260419T155316
CREATED:20240516T234143Z
LAST-MODIFIED:20240827T232623Z
UID:108682-1776276000-1776283200@howelldesignllc.com
SUMMARY:Bryce & Stephanie Lemke DF (Sicklerville)
DESCRIPTION:
URL:https://howelldesignllc.com/events/bryce-stephanie-lemke-df-sicklerville-177
LOCATION:Sicklerville\, 7 Winslow Rd\, Sewell\, NJ\, United States
CATEGORIES:HC Meets
END:VEVENT
BEGIN:VEVENT
DTSTART;TZID=America/New_York:20260415T190000
DTEND;TZID=America/New_York:20260415T210000
DTSTAMP:20260419T155316
CREATED:20240516T234143Z
LAST-MODIFIED:20240827T232623Z
UID:108683-1776279600-1776286800@howelldesignllc.com
SUMMARY:Kurt & Terry Bruninghaus DF (Berlin)
DESCRIPTION:(Dinner once/monthly)
URL:https://howelldesignllc.com/events/kurt-terry-bruninghaus-df-berlin-177
LOCATION:NJ
CATEGORIES:HC Meets
END:VEVENT
BEGIN:VEVENT
DTSTART;TZID=America/New_York:20260422T100000
DTEND;TZID=America/New_York:20260422T120000
DTSTAMP:20260419T155316
CREATED:20240522T222638Z
LAST-MODIFIED:20240827T232623Z
UID:108698-1776852000-1776859200@howelldesignllc.com
SUMMARY:Judy Feiger Womens DF (Pine Hill)
DESCRIPTION:
URL:https://howelldesignllc.com/events/judy-feiger-womens-df-pine-hill-178
LOCATION:NJ
CATEGORIES:HC Meets
END:VEVENT
BEGIN:VEVENT
DTSTART;TZID=America/New_York:20260422T180000
DTEND;TZID=America/New_York:20260422T200000
DTSTAMP:20260419T155316
CREATED:20240523T224244Z
LAST-MODIFIED:20240827T232623Z
UID:108702-1776880800-1776888000@howelldesignllc.com
SUMMARY:Bryce & Stephanie Lemke DF (Sicklerville)
DESCRIPTION:
URL:https://howelldesignllc.com/events/bryce-stephanie-lemke-df-sicklerville-178
LOCATION:Sicklerville\, 7 Winslow Rd\, Sewell\, NJ\, United States
CATEGORIES:HC Meets
END:VEVENT
BEGIN:VEVENT
DTSTART;TZID=America/New_York:20260422T190000
DTEND;TZID=America/New_York:20260422T210000
DTSTAMP:20260419T155316
CREATED:20240523T224244Z
LAST-MODIFIED:20240827T232623Z
UID:108703-1776884400-1776891600@howelldesignllc.com
SUMMARY:Kurt & Terry Bruninghaus DF (Berlin)
DESCRIPTION:(Dinner once/monthly)
URL:https://howelldesignllc.com/events/kurt-terry-bruninghaus-df-berlin-178
LOCATION:NJ
CATEGORIES:HC Meets
END:VEVENT
BEGIN:VEVENT
DTSTART;TZID=America/New_York:20260429T100000
DTEND;TZID=America/New_York:20260429T120000
DTSTAMP:20260419T155316
CREATED:20240529T231144Z
LAST-MODIFIED:20240827T232623Z
UID:108719-1777456800-1777464000@howelldesignllc.com
SUMMARY:Judy Feiger Womens DF (Pine Hill)
DESCRIPTION:
URL:https://howelldesignllc.com/events/judy-feiger-womens-df-pine-hill-179
LOCATION:NJ
CATEGORIES:HC Meets
END:VEVENT
BEGIN:VEVENT
DTSTART;TZID=America/New_York:20260429T180000
DTEND;TZID=America/New_York:20260429T200000
DTSTAMP:20260419T155316
CREATED:20240530T232632Z
LAST-MODIFIED:20240827T232623Z
UID:108724-1777485600-1777492800@howelldesignllc.com
SUMMARY:Bryce & Stephanie Lemke DF (Sicklerville)
DESCRIPTION:
URL:https://howelldesignllc.com/events/bryce-stephanie-lemke-df-sicklerville-179
LOCATION:Sicklerville\, 7 Winslow Rd\, Sewell\, NJ\, United States
CATEGORIES:HC Meets
END:VEVENT
BEGIN:VEVENT
DTSTART;TZID=America/New_York:20260429T190000
DTEND;TZID=America/New_York:20260429T210000
DTSTAMP:20260419T155316
CREATED:20240530T232632Z
LAST-MODIFIED:20240827T232623Z
UID:108725-1777489200-1777496400@howelldesignllc.com
SUMMARY:Kurt & Terry Bruninghaus DF (Berlin)
DESCRIPTION:(Dinner once/monthly)
URL:https://howelldesignllc.com/events/kurt-terry-bruninghaus-df-berlin-179
LOCATION:NJ
CATEGORIES:HC Meets
END:VEVENT
END:VCALENDAR