BEGIN:VCALENDAR
VERSION:2.0
PRODID:-//Howell Design LLC - ECPv6.15.16//NONSGML v1.0//EN
CALSCALE:GREGORIAN
METHOD:PUBLISH
X-WR-CALNAME:Howell Design LLC
X-ORIGINAL-URL:https://howelldesignllc.com
X-WR-CALDESC:Events for Howell Design LLC
REFRESH-INTERVAL;VALUE=DURATION:PT1H
X-Robots-Tag:noindex
X-PUBLISHED-TTL:PT1H
BEGIN:VTIMEZONE
TZID:America/New_York
BEGIN:DAYLIGHT
TZOFFSETFROM:-0500
TZOFFSETTO:-0400
TZNAME:EDT
DTSTART:20250309T070000
END:DAYLIGHT
BEGIN:STANDARD
TZOFFSETFROM:-0400
TZOFFSETTO:-0500
TZNAME:EST
DTSTART:20251102T060000
END:STANDARD
BEGIN:DAYLIGHT
TZOFFSETFROM:-0500
TZOFFSETTO:-0400
TZNAME:EDT
DTSTART:20260308T070000
END:DAYLIGHT
BEGIN:STANDARD
TZOFFSETFROM:-0400
TZOFFSETTO:-0500
TZNAME:EST
DTSTART:20261101T060000
END:STANDARD
BEGIN:DAYLIGHT
TZOFFSETFROM:-0500
TZOFFSETTO:-0400
TZNAME:EDT
DTSTART:20270314T070000
END:DAYLIGHT
BEGIN:STANDARD
TZOFFSETFROM:-0400
TZOFFSETTO:-0500
TZNAME:EST
DTSTART:20271107T060000
END:STANDARD
END:VTIMEZONE
BEGIN:VEVENT
DTSTART;VALUE=DATE:20260513
DTEND;VALUE=DATE:20260515
DTSTAMP:20260421T101053
CREATED:20240516T222628Z
LAST-MODIFIED:20240516T222628Z
UID:108679-1778702400-1778788799@howelldesignllc.com
SUMMARY:Ascension Day
DESCRIPTION:
URL:https://howelldesignllc.com/events/ascension-day-4
CATEGORIES:Christian Holidays
END:VEVENT
BEGIN:VEVENT
DTSTART;VALUE=DATE:20260513
DTEND;VALUE=DATE:20260515
DTSTAMP:20260421T101053
CREATED:20240615T222611Z
LAST-MODIFIED:20241212T222612Z
UID:108824-1778702400-1778788799@howelldesignllc.com
SUMMARY:Ascension Day
DESCRIPTION:
URL:https://howelldesignllc.com/events/ascension-day-6
CATEGORIES:Christian Holidays
END:VEVENT
BEGIN:VEVENT
DTSTART;VALUE=DATE:20260523
DTEND;VALUE=DATE:20260525
DTSTAMP:20260421T101053
CREATED:20240615T222611Z
LAST-MODIFIED:20241212T222612Z
UID:108825-1779566400-1779652799@howelldesignllc.com
SUMMARY:Pentecost
DESCRIPTION:
URL:https://howelldesignllc.com/events/pentecost-5
CATEGORIES:Christian Holidays
END:VEVENT
BEGIN:VEVENT
DTSTART;VALUE=DATE:20260524
DTEND;VALUE=DATE:20260526
DTSTAMP:20260421T101053
CREATED:20240615T222611Z
LAST-MODIFIED:20241212T222612Z
UID:108826-1779652800-1779739199@howelldesignllc.com
SUMMARY:Whit Monday
DESCRIPTION:
URL:https://howelldesignllc.com/events/whit-monday-5
CATEGORIES:Christian Holidays
END:VEVENT
BEGIN:VEVENT
DTSTART;VALUE=DATE:20260530
DTEND;VALUE=DATE:20260601
DTSTAMP:20260421T101053
CREATED:20240615T222611Z
LAST-MODIFIED:20241212T222612Z
UID:108827-1780171200-1780257599@howelldesignllc.com
SUMMARY:Trinity Sunday
DESCRIPTION:
URL:https://howelldesignllc.com/events/trinity-sunday-5
CATEGORIES:Christian Holidays
END:VEVENT
BEGIN:VEVENT
DTSTART;VALUE=DATE:20260603
DTEND;VALUE=DATE:20260605
DTSTAMP:20260421T101053
CREATED:20240615T222612Z
LAST-MODIFIED:20241212T222612Z
UID:108828-1780516800-1780603199@howelldesignllc.com
SUMMARY:Corpus Christi
DESCRIPTION:
URL:https://howelldesignllc.com/events/corpus-christi-5
CATEGORIES:Christian Holidays
END:VEVENT
BEGIN:VEVENT
DTSTART;VALUE=DATE:20260814
DTEND;VALUE=DATE:20260816
DTSTAMP:20260421T101053
CREATED:20240913T222640Z
LAST-MODIFIED:20241212T222612Z
UID:109049-1786737600-1786823999@howelldesignllc.com
SUMMARY:Assumption of Mary
DESCRIPTION:
URL:https://howelldesignllc.com/events/assumption-of-mary-6
CATEGORIES:Christian Holidays
END:VEVENT
BEGIN:VEVENT
DTSTART;VALUE=DATE:20261003
DTEND;VALUE=DATE:20261005
DTSTAMP:20260421T101053
CREATED:20241013T222614Z
LAST-MODIFIED:20241212T222612Z
UID:109086-1791057600-1791143999@howelldesignllc.com
SUMMARY:Feast of St Francis of Assisi
DESCRIPTION:
URL:https://howelldesignllc.com/events/feast-of-st-francis-of-assisi-6
CATEGORIES:Christian Holidays
END:VEVENT
BEGIN:VEVENT
DTSTART;VALUE=DATE:20261031
DTEND;VALUE=DATE:20261102
DTSTAMP:20260421T101053
CREATED:20241112T222625Z
LAST-MODIFIED:20241212T222612Z
UID:109123-1793476800-1793559599@howelldesignllc.com
SUMMARY:All Saints' Day
DESCRIPTION:
URL:https://howelldesignllc.com/events/all-saints-day-6
CATEGORIES:Christian Holidays
END:VEVENT
BEGIN:VEVENT
DTSTART;VALUE=DATE:20261101
DTEND;VALUE=DATE:20261103
DTSTAMP:20260421T101053
CREATED:20241112T222625Z
LAST-MODIFIED:20241212T222612Z
UID:109122-1793559600-1793645999@howelldesignllc.com
SUMMARY:All Souls' Day
DESCRIPTION:
URL:https://howelldesignllc.com/events/all-souls-day-6
CATEGORIES:Christian Holidays
END:VEVENT
BEGIN:VEVENT
DTSTART;VALUE=DATE:20261128
DTEND;VALUE=DATE:20261130
DTSTAMP:20260421T101053
CREATED:20241212T222612Z
LAST-MODIFIED:20241212T222612Z
UID:109161-1795892400-1795978799@howelldesignllc.com
SUMMARY:First Sunday of Advent
DESCRIPTION:
URL:https://howelldesignllc.com/events/first-sunday-of-advent-7
CATEGORIES:Christian Holidays
END:VEVENT
BEGIN:VEVENT
DTSTART;VALUE=DATE:20261207
DTEND;VALUE=DATE:20261209
DTSTAMP:20260421T101053
CREATED:20241212T222612Z
LAST-MODIFIED:20241212T222612Z
UID:109162-1796670000-1796756399@howelldesignllc.com
SUMMARY:Feast of the Immaculate Conception
DESCRIPTION:
URL:https://howelldesignllc.com/events/feast-of-the-immaculate-conception-7
CATEGORIES:Christian Holidays
END:VEVENT
BEGIN:VEVENT
DTSTART;VALUE=DATE:20261211
DTEND;VALUE=DATE:20261213
DTSTAMP:20260421T101053
CREATED:20241212T222613Z
LAST-MODIFIED:20241212T222613Z
UID:109163-1797015600-1797101999@howelldesignllc.com
SUMMARY:Feast of Our Lady of Guadalupe
DESCRIPTION:
URL:https://howelldesignllc.com/events/feast-of-our-lady-of-guadalupe-7
CATEGORIES:Christian Holidays
END:VEVENT
END:VCALENDAR